BEGIN:VCALENDAR
PRODID:-//eluceo/ical//2.0/EN
VERSION:2.0
CALSCALE:GREGORIAN
BEGIN:VEVENT
UID:1b5101f467640b58f7d115dfeff6b7b1
DTSTAMP:20260419T143032Z
SUMMARY:Nanuet Hebrew Center 10th Annual 2nd Night of Passover Community Se
 der
DESCRIPTION:Jewish Federation & Foundation of Rockland County\nCommunity Ca
 lendar\nhttps://jewishrockland.org/calendar/nanuet-hebrew-center-10th-annu
 al-2nd-night-of-passover-community-seder-1553271186\n\nWe welcome you to j
 oin us at Nanuet Hebrew Center on Saturday April 20th\, the Second Night o
 f Passover for our 10th Annual Family Seder &ndash\; always open to the Co
 mmunity.  Gather for Ma&rsquo\;ariv at 8:10pm\; Seder starts promptly at 8
 :30pm.  Includes Kosher for Passover roasted chicken dinner or vegetarian 
 option.  $30 per adult (21 and older)\; no charge for under 21.  Sponsorsh
 ips welcome. RSVP deadline Tuesday\, April 2nd.  Please RSVP to the NHC Of
 fice (845-708-9181 or office@nanuethc.org) . Click...
DTSTART;TZID=America/New_York:20190420T201000
DTEND;TZID=America/New_York:20190420T223000
END:VEVENT
END:VCALENDAR
