BEGIN:VCALENDAR
PRODID:-//eluceo/ical//2.0/EN
VERSION:2.0
CALSCALE:GREGORIAN
BEGIN:VEVENT
UID:613ab5b711a316ba25106bd339cb0e03
DTSTAMP:20260422T210231Z
SUMMARY:Nanuet Hebrew Center Journal Event and Brunch Reception
DESCRIPTION:Jewish Federation & Foundation of Rockland County\nCommunity Ca
 lendar\nhttps://jewishrockland.org/calendar/nanuet-hebrew-center-journal-e
 vent-brunch-2016\n\nJournal Event and Brunch Reception at The Rockleigh ho
 noring all past and present Nanuet Hebrew Center Sisterhood Presidents. In
  addition\, the Administrators and Staff of Rockland BOCES are being honor
 ed with the Stanley Blumenthal Community Service Award.  9:30am to 12:30pm
 . Please click here for more info: http://wizadjournal.com/nanuethebrew201
 6 
DTSTART;TZID=America/New_York:20160417T093000
DTEND;TZID=America/New_York:20160417T123000
END:VEVENT
END:VCALENDAR
