BEGIN:VCALENDAR
PRODID:-//eluceo/ical//2.0/EN
VERSION:2.0
CALSCALE:GREGORIAN
BEGIN:VEVENT
UID:6786d4ac22b04f893e515031865de176
DTSTAMP:20260419T164709Z
SUMMARY:NCJC’s Family Tashlich Service at the Rockland County Courthouse
DESCRIPTION:Jewish Federation & Foundation of Rockland County\nCommunity Ca
 lendar\nhttps://jewishrockland.org/calendar/ncjc-family-tashlich-service-r
 ockland-county-courthouse-1409806565-101485\n\nCome together as a family t
 o help "cast away" our transgressions with this family-appropriate short s
 ervice. The Tashlich service includes throwing bits of bread into a moving
  body of water to symbolically cleanse ourselves for the new year ahead. \
 n\nNOTE THE LOCATION -- WE WILL BE MEETING AT THE STREAM BEHIND THE ROCKLA
 ND COUNTY COURTHOUSE.\n\nFor more info\, contact 845-638-9600 or ncjc@newc
 ityjc.org.
DTSTART;TZID=America/New_York:20140925T173000
DTEND;TZID=America/New_York:20140925T183000
END:VEVENT
END:VCALENDAR
