BEGIN:VCALENDAR
PRODID:-//eluceo/ical//2.0/EN
VERSION:2.0
CALSCALE:GREGORIAN
BEGIN:VEVENT
UID:3e59e70e673d82a8f874120924a9b56a
DTSTAMP:20260422T060525Z
SUMMARY:NCJC Kadima and USY Chanukah Latke Cook-Off
DESCRIPTION:Jewish Federation & Foundation of Rockland County\nCommunity Ca
 lendar\nhttps://jewishrockland.org/calendar/ncjc-kadima-and-usy-chanukah-l
 atke-cook-off-1541701461\n\nCalling all 6th - 12th grade teens! Have fun w
 ith friends while participating in a friendly latke competition. Lunch wil
 l be provided. $5 members/$10 non-members RSVP and questions: lara@newcity
 jc.org
DTSTART;TZID=America/New_York:20181202T120000
DTEND;TZID=America/New_York:20181202T140000
END:VEVENT
END:VCALENDAR
