BEGIN:VCALENDAR
PRODID:-//eluceo/ical//2.0/EN
VERSION:2.0
CALSCALE:GREGORIAN
BEGIN:VEVENT
UID:f8248a9cff1f5bb9d1c87086dc87130f
DTSTAMP:20260421T175541Z
SUMMARY:NCJC MLK  Jr. Day of Service
DESCRIPTION:Jewish Federation & Foundation of Rockland County\nCommunity Ca
 lendar\nhttps://jewishrockland.org/calendar/ncjc-mlk--jr-day-of-service-17
 65829327\n\nJoin us to help the needs or two and four legged creatures. Co
 llect and roll coins to be given to tzedakah\, create blizzard boxes for t
 he elderly\, help construct and decorate a blessing box to house food for 
 those in need and create toys for animals in shelters.
DTSTART;TZID=America/New_York:20260118T110000
DTEND;TZID=America/New_York:20260118T123000
END:VEVENT
END:VCALENDAR
