BEGIN:VCALENDAR
PRODID:-//eluceo/ical//2.0/EN
VERSION:2.0
CALSCALE:GREGORIAN
BEGIN:VEVENT
UID:db52fe623cd4e3a9eb3f22b26cd82dc1
DTSTAMP:20260422T015109Z
SUMMARY:NCJC Selichot Program with Dr. Yehuda Kurtzer
DESCRIPTION:Jewish Federation & Foundation of Rockland County\nCommunity Ca
 lendar\nhttps://jewishrockland.org/calendar/ncjc-selichot-program-with-dr-
 yehuda-kurtzer-2016\n\nAll are invited to New City Jewish Center's Annual 
 Selichot Program sponsored by The Merle & Byron Zabusky\nMemorial Fund fea
 turing a lecture by Dr. Yehuda Kurtzer entitled "On Moral Leadership in Tr
 ying Times." Dr. Kurtzer is the President of the Shalom Hartman Institute 
 of North America and a leading thinker and author on the meaning of Israel
  to American Jews\, the value of the Jewish past to the Jewish present\, a
 nd questions of leadership and change in American Jewish life.   \n\nEveni
 ng...
DTSTART;TZID=America/New_York:20160924T211500
DTEND;TZID=America/New_York:20160924T234500
END:VEVENT
END:VCALENDAR
