BEGIN:VCALENDAR
PRODID:-//eluceo/ical//2.0/EN
VERSION:2.0
CALSCALE:GREGORIAN
BEGIN:VEVENT
UID:de2ec6613e15e120b85f25bee54d9623
DTSTAMP:20260421T181421Z
SUMMARY:NCJC Selichot Speaker and Services
DESCRIPTION:Jewish Federation & Foundation of Rockland County\nCommunity Ca
 lendar\nhttps://jewishrockland.org/calendar/ncjc-selichot-speaker-and-serv
 ices\n\nNCJC Selichot Speaker and Services
DTSTART;TZID=America/New_York:20130831T213000
DTEND;TZID=America/New_York:20130831T230000
END:VEVENT
END:VCALENDAR
