BEGIN:VCALENDAR
PRODID:-//eluceo/ical//2.0/EN
VERSION:2.0
CALSCALE:GREGORIAN
BEGIN:VEVENT
UID:2d19bdeeacf93ec90773b52d7bc24a65
DTSTAMP:20260425T220933Z
SUMMARY:NCJC Sisterhood Tu B'Shevat Dinner
DESCRIPTION:Jewish Federation & Foundation of Rockland County\nCommunity Ca
 lendar\nhttps://jewishrockland.org/calendar/ncjc-sisterhood-tu-bshevat-din
 ner-1768245200\n\nJoin sisterhood in a Tu B'Shevat seder led by Carol King
  Berkman
DTSTART;TZID=America/New_York:20260202T180000
DTEND;TZID=America/New_York:20260202T190000
END:VEVENT
END:VCALENDAR
