BEGIN:VCALENDAR
PRODID:-//eluceo/ical//2.0/EN
VERSION:2.0
CALSCALE:GREGORIAN
BEGIN:VEVENT
UID:c94ffc19256176c9196dbc9f7eafb1ad
DTSTAMP:20260425T041026Z
SUMMARY:NCJC Sukkah Decorating and Family Program
DESCRIPTION:Jewish Federation & Foundation of Rockland County\nCommunity Ca
 lendar\nhttps://jewishrockland.org/calendar/ncjc-sukkah-decorating-family-
 program-2016\n\nJoin families from New City Jewish Center for a light lunc
 h\, Sukkah decorating and a lulav and etrog tutorial!\n\nRSVPs are require
 d by Thursday\, October 13th at 5:00 PM.
DTSTART;TZID=America/New_York:20161016T120000
DTEND;TZID=America/New_York:20161016T133000
END:VEVENT
END:VCALENDAR
