BEGIN:VCALENDAR
PRODID:-//eluceo/ical//2.0/EN
VERSION:2.0
CALSCALE:GREGORIAN
BEGIN:VEVENT
UID:5c7e14d556d974e75b01c87de08a9817
DTSTAMP:20260421T130205Z
SUMMARY:NCJW Presents “Bob Baird’s Tappan Zee Bridge Stories” 
DESCRIPTION:Jewish Federation & Foundation of Rockland County\nCommunity Ca
 lendar\nhttps://jewishrockland.org/calendar/ncjw-presents-bob-bairds-tappa
 n-zee-bridge-stories\n\nBob Baird\, award winning editor and columnist for
  The Journal News\, will share his knowledge of Tappan Zee Bridge history.
  Bob is highly recognized as a Pulitzer Prize finalist and public service 
 award winner. Refreshments\, Free\, Open to the Public. Optional -- bring 
 a package or can of Kosher for Passover food for donation to the kosher fo
 od pantry. For more information go to ncjwrockland.org.
DTSTART;TZID=America/New_York:20160406T193000
DTEND;TZID=America/New_York:20160406T211500
END:VEVENT
END:VCALENDAR
