BEGIN:VCALENDAR
PRODID:-//eluceo/ical//2.0/EN
VERSION:2.0
CALSCALE:GREGORIAN
BEGIN:VEVENT
UID:a0b012d19bb0baa8929d8903baeffb29
DTSTAMP:20260424T151310Z
SUMMARY:NCJW Rockland Presents Memory Loss Basics
DESCRIPTION:Jewish Federation & Foundation of Rockland County\nCommunity Ca
 lendar\nhttps://jewishrockland.org/calendar/ncjw-rockland-presents-memory-
 loss-basics\n\nThe National Council of Jewish Women (NCJW)\, Rockland Sect
 ion presents recognized expert Debra Kagan-Birkland\, Licensed Master Soci
 al Worker and Care Consultant\, who will enlighten the audience about memo
 ry loss\, dementia and Alzheimer’s disease.\n\nRefreshments\, Free\, Ope
 n to the Public. Optional -- bring a bottle of laundry detergent for donat
 ion to the homeless. For more information go to ncjwrockland.org.
DTSTART;TZID=America/New_York:20151202T140000
DTEND;TZID=America/New_York:20151202T153000
END:VEVENT
END:VCALENDAR
