BEGIN:VCALENDAR
PRODID:-//eluceo/ical//2.0/EN
VERSION:2.0
CALSCALE:GREGORIAN
BEGIN:VEVENT
UID:cd698b7b2246fb25255df479637701c1
DTSTAMP:20260423T224623Z
SUMMARY:Neil Berg's 100 Years of Broadway
DESCRIPTION:Jewish Federation & Foundation of Rockland County\nCommunity Ca
 lendar\nhttps://jewishrockland.org/calendar/neil-bergs-100-years-of-broadw
 ay-RTR\n\nComposer and lyricist Neil Berg has put together a star-studded 
 evening\, celebrating 100 Years of Broadway. The musical revue recreates t
 he greatest moments from the some of Broadway’s most popular shows like 
 Cats\, The Phantom of the Opera\, and Jesus Christ Superstar. Tickets are 
 $50 per person including complimentary pre-show champagne.
DTSTART;TZID=America/New_York:20170506T190000
DTEND;TZID=America/New_York:20170506T223000
END:VEVENT
END:VCALENDAR
