BEGIN:VCALENDAR
PRODID:-//eluceo/ical//2.0/EN
VERSION:2.0
CALSCALE:GREGORIAN
BEGIN:VEVENT
UID:7e685296b9c8c13b37d5de4097e63615
DTSTAMP:20260421T133512Z
SUMMARY:Neil Berg's Broadway Revue
DESCRIPTION:Jewish Federation & Foundation of Rockland County\nCommunity Ca
 lendar\nhttps://jewishrockland.org/calendar/neil-bergs-broadway-revue-6379
 8\n\nNeil Berg's Broadway Revue returns to Beth Am Temple!\n\nTickets are 
 now available in the temple office for $36 ea.\n\nStop by or call 845-735-
 5858
DTSTART;TZID=America/New_York:20140614T203000
DTEND;TZID=America/New_York:20140614T220000
END:VEVENT
END:VCALENDAR
