BEGIN:VCALENDAR
PRODID:-//eluceo/ical//2.0/EN
VERSION:2.0
CALSCALE:GREGORIAN
BEGIN:VEVENT
UID:7f3d8531837b85f744f29460ac5294be
DTSTAMP:20260421T072012Z
SUMMARY:New City Jewish Center Past Presidents' Recognition Day
DESCRIPTION:Jewish Federation & Foundation of Rockland County\nCommunity Ca
 lendar\nhttps://jewishrockland.org/calendar/new-city-jewish-center-past-pr
 esidents-recognition-day\n\nHonoring Past President of New City Jewish Cen
 ter
DTSTART;TZID=America/New_York:20161106T130000
DTEND;TZID=America/New_York:20161106T180000
END:VEVENT
END:VCALENDAR
