BEGIN:VCALENDAR
PRODID:-//eluceo/ical//2.0/EN
VERSION:2.0
CALSCALE:GREGORIAN
BEGIN:VEVENT
UID:03784bc32ea2d6a64e54d9c07dce4e4e
DTSTAMP:20260424T131920Z
SUMMARY:New City Jewish Center Political Breakfast
DESCRIPTION:Jewish Federation & Foundation of Rockland County\nCommunity Ca
 lendar\nhttps://jewishrockland.org/calendar/new-city-jewish-center-politic
 al-breakfast-2017\n\nKey Candidates Debate for\nRockland County Executive\
 nClarkstown Town Supervisor\nClarkstown Town Council
DTSTART;TZID=America/New_York:20171105T084500
DTEND;TZID=America/New_York:20171105T115500
END:VEVENT
END:VCALENDAR
