BEGIN:VCALENDAR
PRODID:-//eluceo/ical//2.0/EN
VERSION:2.0
CALSCALE:GREGORIAN
BEGIN:VEVENT
UID:9d64fb90678e024965c801a047dd81e3
DTSTAMP:20260424T224307Z
SUMMARY:New City Jewish Center Presents Alan Dershowitz
DESCRIPTION:Jewish Federation & Foundation of Rockland County\nCommunity Ca
 lendar\nhttps://jewishrockland.org/calendar/new-city-jewish-center-present
 s-alan-dershowitz\n\nAlan Dershowitz to speak at NCJC
DTSTART;TZID=America/New_York:20131124T173000
DTEND;TZID=America/New_York:20131124T200000
END:VEVENT
END:VCALENDAR
