BEGIN:VCALENDAR
PRODID:-//eluceo/ical//2.0/EN
VERSION:2.0
CALSCALE:GREGORIAN
BEGIN:VEVENT
UID:3fdfa199b87d23b6d59edfc7f8247498
DTSTAMP:20260422T070134Z
SUMMARY:New Congregant Welcoming Shabbat
DESCRIPTION:Jewish Federation & Foundation of Rockland County\nCommunity Ca
 lendar\nhttps://jewishrockland.org/calendar/new-congregant-welcoming-shabb
 at-1453222996-178637\n\nPlease join us for Shabbat Morning Services at 9:3
 0am followed by a gala Kiddush welcoming and honoring our newest congregan
 ts who became a part of Nanuet Hebrew Center in the past year (2015). 
DTSTART;TZID=America/New_York:20160312T093000
DTEND;TZID=America/New_York:20160312T130000
END:VEVENT
END:VCALENDAR
