BEGIN:VCALENDAR
PRODID:-//eluceo/ical//2.0/EN
VERSION:2.0
CALSCALE:GREGORIAN
BEGIN:VEVENT
UID:47672525de961563bb39895d6a1bc7e9
DTSTAMP:20260421T020141Z
SUMMARY:Noah's Ark Community Shabbat
DESCRIPTION:Jewish Federation & Foundation of Rockland County\nCommunity Ca
 lendar\nhttps://jewishrockland.org/calendar/noahs-ark-community-shabbat-14
 41818204-165185\n\nPlease join us for a fun\, musical Shabbat celebration 
 as we read parsha Noach. All children are encouraged to wear an animal cos
 tume. A festive oneg shabbat will follow.
DTSTART;TZID=America/New_York:20151016T183000
DTEND;TZID=America/New_York:20151016T200000
END:VEVENT
END:VCALENDAR
