BEGIN:VCALENDAR
PRODID:-//eluceo/ical//2.0/EN
VERSION:2.0
CALSCALE:GREGORIAN
BEGIN:VEVENT
UID:8908a8ce0d4e74fa72278dcc53dfd1c1
DTSTAMP:20260421T021346Z
SUMMARY:Nosh & Learn: Jewish Harlem
DESCRIPTION:Jewish Federation & Foundation of Rockland County\nCommunity Ca
 lendar\nhttps://jewishrockland.org/calendar/nosh--learn-jewish-harlem-1461
 631301-189015\n\nBefore the great black migration from the south\, Harlem 
 was the third largest Jewish settlement in the world. The lecture will inc
 lude information as to why the Jews selected Harlem as their residence in 
 the 1880s.
DTSTART;TZID=America/New_York:20160706T123000
DTEND;TZID=America/New_York:20160706T140000
END:VEVENT
END:VCALENDAR
