BEGIN:VCALENDAR
PRODID:-//eluceo/ical//2.0/EN
VERSION:2.0
CALSCALE:GREGORIAN
BEGIN:VEVENT
UID:0d489ef0907720c96d4dacf6f1a7beba
DTSTAMP:20260425T015028Z
SUMMARY:Nutrition and Health - A Registered Nutritionist's Perspective
DESCRIPTION:Jewish Federation & Foundation of Rockland County\nCommunity Ca
 lendar\nhttps://jewishrockland.org/calendar/nutrition-and-health---a-regis
 tered-nutritionists-perspective-1732307154\n\nJames Lowery\, Registered Di
 etician Nutritionist\, will present the latest guidelines on general nutri
 tion\, diabetes management and low-sodium diets
DTSTART;TZID=America/New_York:20241204T133000
DTEND;TZID=America/New_York:20241204T150000
END:VEVENT
END:VCALENDAR
