BEGIN:VCALENDAR
PRODID:-//eluceo/ical//2.0/EN
VERSION:2.0
CALSCALE:GREGORIAN
BEGIN:VEVENT
UID:0f27bafd94f8ad9158a49b098918c5c1
DTSTAMP:20260423T030941Z
SUMMARY:Observance of Greek Holocaust Remembrance  Day - Breakfast & Speake
 r
DESCRIPTION:Jewish Federation & Foundation of Rockland County\nCommunity Ca
 lendar\nhttps://jewishrockland.org/calendar/observance-of-greek-holocaust-
 remembrance--day---breakfast--speaker-1767985235\n\nSYLVIA - the Greek hol
 ocaust experience by Viktor Koen - Sylvia was born on Purim 1925 in city i
 n Northern Greece\, She is 16 years old when the Germans enter Salonika. W
 e will follow Sylvia and her family from deportation to Auschwitz-Birkenau
  through the Greek holocaust experience of loss. Q & A after the presentat
 ion. This is a free event but rsvp is required. Please call or e-mail the 
 synagogue office. 845-708-9181 or office@shirshalomrockland.org\nBreakfast
  - 10:00 am\nSpeaker - 11:00 am...
DTSTART;TZID=America/New_York:20260125T100000
DTEND;TZID=America/New_York:20260125T130000
END:VEVENT
END:VCALENDAR
