BEGIN:VCALENDAR
PRODID:-//eluceo/ical//2.0/EN
VERSION:2.0
CALSCALE:GREGORIAN
BEGIN:VEVENT
UID:962a10fe294be8091ae407c7750e31bf
DTSTAMP:20260420T212517Z
SUMMARY:October 7th Survivor speaking at The Reform Temple of Rockland
DESCRIPTION:Jewish Federation & Foundation of Rockland County\nCommunity Ca
 lendar\nhttps://jewishrockland.org/calendar/october-7th-survivor-speaking-
 at-the-reform-temple-of-rockland-1774968462\n\nOctober 7th survivor Barak 
 Morag will share his story of choosing life after October 7th. From surviv
 al to resilience\, he will speak about his journey from the ruins of Kibbu
 tz Nir Oz to personal growth. Rabbi Medwin invites the community to welcom
 e Shabbat with Barak at The Reform Temple of Rockland. Hear Barak's powerf
 ul and inspiring story of survival and determination. Please RSVP to Betha
 nne at info@rtrny.org.
DTSTART;TZID=America/New_York:20260515T193000
DTEND;TZID=America/New_York:20260515T210000
END:VEVENT
END:VCALENDAR
