BEGIN:VCALENDAR
PRODID:-//eluceo/ical//2.0/EN
VERSION:2.0
CALSCALE:GREGORIAN
BEGIN:VEVENT
UID:87450b3a39d474cfd02112450dcbb2ad
DTSTAMP:20260424T214118Z
SUMMARY:Of Time and the River: Songs of the Historic Hudson
DESCRIPTION:Jewish Federation & Foundation of Rockland County\nCommunity Ca
 lendar\nhttps://jewishrockland.org/calendar/of-time-and-the-river-songs-of
 -the-historic-hudson-86104\n\nThe Hudson River has been the backdrop for a
  wealth of human history\; trace life along the Hudson as seen in folk bal
 lads. Erie Canal ditties and dance tunes accompanied by guitar\, pennywhis
 tle and hammered and mountain dulcimers.\nFREE: Everyone Welcome.
DTSTART;TZID=America/New_York:20140916T023000
DTEND;TZID=America/New_York:20140916T033000
END:VEVENT
END:VCALENDAR
