BEGIN:VCALENDAR
PRODID:-//eluceo/ical//2.0/EN
VERSION:2.0
CALSCALE:GREGORIAN
BEGIN:VEVENT
UID:fe480c4d365c65ec52690a430ae58e78
DTSTAMP:20260420T182227Z
SUMMARY:OJC Celebrates Pride Shabbat
DESCRIPTION:Jewish Federation & Foundation of Rockland County\nCommunity Ca
 lendar\nhttps://jewishrockland.org/calendar/ojc-celebrates-pride-shabbat-1
 653410060\n\nJoin OJC in celebrating Pride Shabbat.
DTSTART;TZID=America/New_York:20220603T190000
DTEND;TZID=America/New_York:20220603T203000
END:VEVENT
END:VCALENDAR
