BEGIN:VCALENDAR
PRODID:-//eluceo/ical//2.0/EN
VERSION:2.0
CALSCALE:GREGORIAN
BEGIN:VEVENT
UID:7aac598f3760b1439258ee7fddc0390f
DTSTAMP:20260422T194339Z
SUMMARY:OJC First Night Community Seder
DESCRIPTION:Jewish Federation & Foundation of Rockland County\nCommunity Ca
 lendar\nhttps://jewishrockland.org/calendar/ojc-first-night-community-sede
 r-1458706794-185426\n\nThere's a place for you at our table! $45 per adult
 /$35 per child\, RSVP to David@Schlossberg.net by 4/14!
DTSTART;TZID=America/New_York:20160422T190000
DTEND;TZID=America/New_York:20160422T230000
END:VEVENT
END:VCALENDAR
