BEGIN:VCALENDAR
PRODID:-//eluceo/ical//2.0/EN
VERSION:2.0
CALSCALE:GREGORIAN
BEGIN:VEVENT
UID:b7dcd56fe1698522ac9bc572f84d46d5
DTSTAMP:20260421T143457Z
SUMMARY:OJC Gala
DESCRIPTION:Jewish Federation & Foundation of Rockland County\nCommunity Ca
 lendar\nhttps://jewishrockland.org/calendar/ojc-gala\n\nThe community is i
 nvited to the OJC Gala\, honoring Robin and Mitch Brill and Krista Bohn. C
 all the Orangetown Jewish Center for details: 845-359-5920.
DTSTART;TZID=America/New_York:20160403T180000
DTEND;TZID=America/New_York:20160403T210000
END:VEVENT
END:VCALENDAR
