BEGIN:VCALENDAR
PRODID:-//eluceo/ical//2.0/EN
VERSION:2.0
CALSCALE:GREGORIAN
BEGIN:VEVENT
UID:e21dddbc2339197e143bbf7c27ecd624
DTSTAMP:20260422T125856Z
SUMMARY:OJC Jewels of Esther Online Auction
DESCRIPTION:Jewish Federation & Foundation of Rockland County\nCommunity Ca
 lendar\nhttps://jewishrockland.org/calendar/ojc-jewels-of-esther-online-au
 ction-1612829419\n\nThe Jewels of Ester Auction will be on an online event
  to benefit the OJC's “Reflect to Connect” campaign to support OJC whi
 le simultaneously celebrating the Scheffs’ 25 years with OJC! Treat your
 self to a beautiful piece of jewelry or consider bidding on an item as a M
 other's Day or other gift for someone special. All jewelry pieces generous
 ly donated by Michael Schoenbart.
DTSTART;TZID=America/New_York:20210411T170000
DTEND;TZID=America/New_York:20210411T180000
END:VEVENT
END:VCALENDAR
