BEGIN:VCALENDAR
PRODID:-//eluceo/ical//2.0/EN
VERSION:2.0
CALSCALE:GREGORIAN
BEGIN:VEVENT
UID:9a56aab9ad6968b0ca159739e5dd7b46
DTSTAMP:20260419T194409Z
SUMMARY:OJC Men's Club First Ever Poker Tournament
DESCRIPTION:Jewish Federation & Foundation of Rockland County\nCommunity Ca
 lendar\nhttps://jewishrockland.org/calendar/ojc-mens-club-first-ever-poker
 -tournament-1546545114\n\nPoker Tournament! Food & Drinks Provided!
DTSTART;TZID=America/New_York:20190202T180000
DTEND;TZID=America/New_York:20190202T220000
END:VEVENT
END:VCALENDAR
