BEGIN:VCALENDAR
PRODID:-//eluceo/ical//2.0/EN
VERSION:2.0
CALSCALE:GREGORIAN
BEGIN:VEVENT
UID:c82e2ec3a8e316e5ea3b544f7e0d5b24
DTSTAMP:20260422T223147Z
SUMMARY:OJC Pajama Havdalah
DESCRIPTION:Jewish Federation & Foundation of Rockland County\nCommunity Ca
 lendar\nhttps://jewishrockland.org/calendar/ojc-pajama-havdalah-1441564908
 -164712\n\nPajama Havdalah is back!\n\nCelebrate the conclusion of Shabbat
  and watch a movie in your pajamas! Children (geared towards the PreK-2nd 
 grade crowd\, but all ages are welcome) will watch a fun movie and grownup
 s will socialize.\n\nHomemade Pizza Dinner will be served! Make sure to RS
 VP!
DTSTART;TZID=America/New_York:20160109T173000
DTEND;TZID=America/New_York:20160109T200000
END:VEVENT
END:VCALENDAR
