BEGIN:VCALENDAR
PRODID:-//eluceo/ical//2.0/EN
VERSION:2.0
CALSCALE:GREGORIAN
BEGIN:VEVENT
UID:472e8ec692599a8e0095cf67501e9aa5
DTSTAMP:20260425T111152Z
SUMMARY:OJC Parents: Sangria in the Sukkah
DESCRIPTION:Jewish Federation & Foundation of Rockland County\nCommunity Ca
 lendar\nhttps://jewishrockland.org/calendar/ojc-parents-sangria-in-the-suk
 kah-2016\n\nParents of young children - Hire a babysitter and enjoy a nigh
 t out in the OJC Sukkah.
DTSTART;TZID=America/New_York:20161022T200000
DTEND;TZID=America/New_York:20161022T230000
END:VEVENT
END:VCALENDAR
