BEGIN:VCALENDAR
PRODID:-//eluceo/ical//2.0/EN
VERSION:2.0
CALSCALE:GREGORIAN
BEGIN:VEVENT
UID:0f5018028a9bb80f8d4d06abc136b3bc
DTSTAMP:20260424T005716Z
SUMMARY:OJC Shabbat Dinner & Dialogue
DESCRIPTION:Jewish Federation & Foundation of Rockland County\nCommunity Ca
 lendar\nhttps://jewishrockland.org/calendar/ojc-shabbat-dinner--dialogue-1
 546544636\n\nGuest Speaker Brooke Malloy\, Director of the Rockland Pride 
 Center in Nyack. 
DTSTART;TZID=America/New_York:20190111T180000
DTEND;TZID=America/New_York:20190111T200000
END:VEVENT
END:VCALENDAR
