BEGIN:VCALENDAR
PRODID:-//eluceo/ical//2.0/EN
VERSION:2.0
CALSCALE:GREGORIAN
BEGIN:VEVENT
UID:eb65d7ba7ef835199f2589eca72d5a79
DTSTAMP:20260421T085039Z
SUMMARY:OJC Sisterhood Presents: A Tu B'Shevat Seder
DESCRIPTION:Jewish Federation & Foundation of Rockland County\nCommunity Ca
 lendar\nhttps://jewishrockland.org/calendar/ojc-sisterhood-presents-a-tu-b
 shevat-seder-1546545418\n\nCelebrating the New Year for Trees! Learn from 
 Rabbi Drill about meaning and Rituals of the holiday. Light Dinner will be
  served. Please RSVP by January 11th
DTSTART;TZID=America/New_York:20190121T180000
DTEND;TZID=America/New_York:20190121T200000
END:VEVENT
END:VCALENDAR
