BEGIN:VCALENDAR
PRODID:-//eluceo/ical//2.0/EN
VERSION:2.0
CALSCALE:GREGORIAN
BEGIN:VEVENT
UID:ab7a4941a997a5c21b1186833d528ed3
DTSTAMP:20260423T070601Z
SUMMARY:OJC Yom Ha'Atzmaut Celebration
DESCRIPTION:Jewish Federation & Foundation of Rockland County\nCommunity Ca
 lendar\nhttps://jewishrockland.org/calendar/ojc-yom-haatzmaut-celebration-
 2017\n\nLive music\, Israeli dancing and food!
DTSTART;TZID=America/New_York:20170502T183000
DTEND;TZID=America/New_York:20170502T203000
END:VEVENT
END:VCALENDAR
