BEGIN:VCALENDAR
PRODID:-//eluceo/ical//2.0/EN
VERSION:2.0
CALSCALE:GREGORIAN
BEGIN:VEVENT
UID:2fff1147d94c59df88deb71db3e96654
DTSTAMP:20260420T024945Z
SUMMARY:OJC's Early Kabbalat Shabbat -EKS
DESCRIPTION:Jewish Federation & Foundation of Rockland County\nCommunity Ca
 lendar\nhttps://jewishrockland.org/calendar/ojcs-early-kabbalat-shabbat--e
 ks-1771122744\n\nA Shabbat experience designed for families with children.
  This is an informal interactive service filled with music\, dancing and s
 torytelling followed by a FREE family dinner with Rabbi Hersh to welcome S
 habbat
DTSTART;TZID=America/New_York:20260220T174500
DTEND;TZID=America/New_York:20260220T184500
END:VEVENT
END:VCALENDAR
