BEGIN:VCALENDAR
PRODID:-//eluceo/ical//2.0/EN
VERSION:2.0
CALSCALE:GREGORIAN
BEGIN:VEVENT
UID:39f9e8ab31a3ed5c4d61edd7901d9a2d
DTSTAMP:20260421T093640Z
SUMMARY:OJC's Every Month a Holiday
DESCRIPTION:Jewish Federation & Foundation of Rockland County\nCommunity Ca
 lendar\nhttps://jewishrockland.org/calendar/ojcs-every-month-a-holiday-177
 0905438\n\nJoin Rabbi Scheff to learn about Jewish Holidays and how we cel
 ebrate and observe them
DTSTART;TZID=America/New_York:20260512T170000
DTEND;TZID=America/New_York:20260512T180000
END:VEVENT
END:VCALENDAR
