BEGIN:VCALENDAR
PRODID:-//eluceo/ical//2.0/EN
VERSION:2.0
CALSCALE:GREGORIAN
BEGIN:VEVENT
UID:46b882b1a2fae7b89e343dee7317a572
DTSTAMP:20260420T233339Z
SUMMARY:Open Hands Open Hearts - Caring For Our Adult Children
DESCRIPTION:Jewish Federation & Foundation of Rockland County\nCommunity Ca
 lendar\nhttps://jewishrockland.org/calendar/open-hands-open-hearts---carin
 g-for-our-adult-children-1763481600\n\nExplore the mitzvah of compassion a
 nd caring as parents walk the fine line with their adult children of givin
 g support and letting go
DTSTART;TZID=America/New_York:20251124T183000
DTEND;TZID=America/New_York:20251124T193000
END:VEVENT
END:VCALENDAR
