BEGIN:VCALENDAR
PRODID:-//eluceo/ical//2.0/EN
VERSION:2.0
CALSCALE:GREGORIAN
BEGIN:VEVENT
UID:316e549d8e4c633ec77d534bb9163cbe
DTSTAMP:20260421T011457Z
SUMMARY:Orangetown Jewish Center Artists in Residence
DESCRIPTION:Jewish Federation & Foundation of Rockland County\nCommunity Ca
 lendar\nhttps://jewishrockland.org/calendar/orangetown-jewish-center-artis
 ts-in-residence-1575988213\n\nOrangetown Jewish Center's Artists in Reside
 nce welcome the Bible Players for Shabbat Services Friday night\, Saturday
  morning and Havdallah Saturday afternoon. All are welcome
DTSTART;TZID=America/New_York:20201016T180000
DTEND;TZID=America/New_York:20201018T110000
END:VEVENT
END:VCALENDAR
