BEGIN:VCALENDAR
PRODID:-//eluceo/ical//2.0/EN
VERSION:2.0
CALSCALE:GREGORIAN
BEGIN:VEVENT
UID:5b8efa46efd83150fddbeb805cdd4b56
DTSTAMP:20260423T001157Z
SUMMARY:Orangetown Jewish Center Gala
DESCRIPTION:Jewish Federation & Foundation of Rockland County\nCommunity Ca
 lendar\nhttps://jewishrockland.org/calendar/orangetown-jewish-center-gala\
 n\nGala dinner at the OJC honoring Rabbi Paula Mack Drill's 10th Anniversa
 ry as an ordained rabbi. Entertainment by Neshama Carlebach.
DTSTART;TZID=America/New_York:20150308T180000
DTEND;TZID=America/New_York:20150308T210000
END:VEVENT
END:VCALENDAR
