BEGIN:VCALENDAR
PRODID:-//eluceo/ical//2.0/EN
VERSION:2.0
CALSCALE:GREGORIAN
BEGIN:VEVENT
UID:7fd99b8c909a306b54ed82a69a37a54f
DTSTAMP:20260424T181503Z
SUMMARY:Orangetown Jewish Center Israel Mission Trip
DESCRIPTION:Jewish Federation & Foundation of Rockland County\nCommunity Ca
 lendar\nhttps://jewishrockland.org/calendar/orangetown-jewish-center-israe
 l-mission-trip-1721844180\n\nOrangetown Jewish Center's annual volunteer m
 ission is a way to connect to Israel and its people through hands-on work
DTSTART;TZID=America/New_York:20241117T090000
DTEND;TZID=America/New_York:20241122T170000
END:VEVENT
END:VCALENDAR
