BEGIN:VCALENDAR
PRODID:-//eluceo/ical//2.0/EN
VERSION:2.0
CALSCALE:GREGORIAN
BEGIN:VEVENT
UID:b81f970a28fdf48ba5a67f407376cac1
DTSTAMP:20260422T192500Z
SUMMARY:Orangetown Jewish Center Mitzvah Day
DESCRIPTION:Jewish Federation & Foundation of Rockland County\nCommunity Ca
 lendar\nhttps://jewishrockland.org/calendar/orangetown-jewish-center-mitzv
 ah-day-1571241209\n\nA day filled wMitzvah /activities for all ages sucha 
 as baking w/Bubbies for food insecure teens\, feeding the homeless in NYC\
 , to donating blood\, to siddur repair\, & local park cleanup.
DTSTART;TZID=America/New_York:20191124T083000
DTEND;TZID=America/New_York:20191124T150000
END:VEVENT
END:VCALENDAR
