BEGIN:VCALENDAR
PRODID:-//eluceo/ical//2.0/EN
VERSION:2.0
CALSCALE:GREGORIAN
BEGIN:VEVENT
UID:9bb4d950bb19c3ff417538aa0abfd201
DTSTAMP:20260420T145121Z
SUMMARY:Orangetown Jewish Center Yom Kippur Public Yizkor service
DESCRIPTION:Jewish Federation & Foundation of Rockland County\nCommunity Ca
 lendar\nhttps://jewishrockland.org/calendar/orangetown-jewish-center-yom-k
 ippur-public-yizkor-service-1707144201\n\nJoin Orangetown Jewish Center's 
 Public Yizkor service
DTSTART;TZID=America/New_York:20241012T143000
DTEND;TZID=America/New_York:20241012T153000
END:VEVENT
END:VCALENDAR
