BEGIN:VCALENDAR
PRODID:-//eluceo/ical//2.0/EN
VERSION:2.0
CALSCALE:GREGORIAN
BEGIN:VEVENT
UID:650d2eb05a764684c390151412cdec00
DTSTAMP:20260423T012741Z
SUMMARY:Parenting with Jewish Values Workshop at CSI
DESCRIPTION:Jewish Federation & Foundation of Rockland County\nCommunity Ca
 lendar\nhttps://jewishrockland.org/calendar/parenting-with-jewish-values-w
 orkshop-at-csi-1757626839\n\nWhat can Ancient Jewish Wisdom Teach us about
  Parenting today? Join Rabbi Russo and Parenting Educator\, Maskit Ronen f
 or a four part series where we look at relevant Jewish text and discuss pa
 renting strategies together in a safe\, supported environment. \nThursday 
 evenings via zoom. 10/16\, 10/23\, 10/30 & 11/6\n7:30-8:30\nRegister  by e
 mail: office@csinyack\,org \nPay$90  by check or onlineCSINYACK.org/donate
  -select account: Adut ED-other
DTSTART;TZID=America/New_York:20251016T193000
DTEND;TZID=America/New_York:20251016T203000
END:VEVENT
END:VCALENDAR
