BEGIN:VCALENDAR
PRODID:-//eluceo/ical//2.0/EN
VERSION:2.0
CALSCALE:GREGORIAN
BEGIN:VEVENT
UID:381a08eb285b2d59b23f2945e4a2c4ce
DTSTAMP:20260421T132225Z
SUMMARY:Parents' Hebrew School at NCJC -- Sukkot and Simchat Torah
DESCRIPTION:Jewish Federation & Foundation of Rockland County\nCommunity Ca
 lendar\nhttps://jewishrockland.org/calendar/parents-hebrew-school-ncjc-suk
 kot-simchat-torah-1409809354-101490\n\nParent Classes led by Educational D
 irector Lynne Diwinsky during Hebrew School hours.\n\nOctober 5th -- Succo
 t/Simchat Torah: How are they Connected? Do I have room for a Sukkah?
DTSTART;TZID=America/New_York:20141005T090000
DTEND;TZID=America/New_York:20141005T100000
END:VEVENT
END:VCALENDAR
