BEGIN:VCALENDAR
PRODID:-//eluceo/ical//2.0/EN
VERSION:2.0
CALSCALE:GREGORIAN
BEGIN:VEVENT
UID:39631f3cbdfa23db4c7b1182e3d70082
DTSTAMP:20260424T060632Z
SUMMARY:Party on the Porch with CSI\, Nyack
DESCRIPTION:Jewish Federation & Foundation of Rockland County\nCommunity Ca
 lendar\nhttps://jewishrockland.org/calendar/party-on-porch-csi-nyack-march
 -16\n\nWednesday\, March 16 Party on the Porch with CSI-- 7 – 8:30 pm at
  Art Cafe\nJoin other 20s/30s/40s for some yummy Israeli food and hang out
  with old friends\, meet new friends! Art Café (65 S. Broadway\, Nyack\, 
 NY-next to the Nyack Library). For more information call Helaine at 845-35
 8-3767 or csioffice@optonline.net
DTSTART;TZID=America/New_York:20160316T070000
DTEND;TZID=America/New_York:20160316T203000
END:VEVENT
END:VCALENDAR
