BEGIN:VCALENDAR
PRODID:-//eluceo/ical//2.0/EN
VERSION:2.0
CALSCALE:GREGORIAN
BEGIN:VEVENT
UID:4e72571dac3717f45654e7aec37f160b
DTSTAMP:20260422T122647Z
SUMMARY:Party on the Porch with CSI
DESCRIPTION:Jewish Federation & Foundation of Rockland County\nCommunity Ca
 lendar\nhttps://jewishrockland.org/calendar/party-on-the-porch-with-csi-55
 997\n\nParty on the Porch with CSI
DTSTART;TZID=America/New_York:20140116T190000
DTEND;TZID=America/New_York:20140116T210000
END:VEVENT
END:VCALENDAR
