BEGIN:VCALENDAR
PRODID:-//eluceo/ical//2.0/EN
VERSION:2.0
CALSCALE:GREGORIAN
BEGIN:VEVENT
UID:55a2e524240642e4023f728ddf3bb7c7
DTSTAMP:20260419T211325Z
SUMMARY:Party on the Porch with CSI and Art Cafe
DESCRIPTION:Jewish Federation & Foundation of Rockland County\nCommunity Ca
 lendar\nhttps://jewishrockland.org/calendar/party-on-the-porch-with-csi-an
 d-art-cafe-1447177584\n\nWednesday\, November 18\, Party on the Porch with
  CSI-- 7 – 8:30 pm at Art Cafe\nJoin other 20s/30s/40s to socialize\, li
 sten to Israeli music and eat some incredible Art Café Israeli food. Art 
 Café \, 65 S. Broadway\, Nyack\, NY(next to the Nyack Library). For more 
 information call Helaine at 845-358-3767 or csioffice@optonline.net
DTSTART;TZID=America/New_York:20151118T190000
DTEND;TZID=America/New_York:20151118T203000
END:VEVENT
END:VCALENDAR
