BEGIN:VCALENDAR
PRODID:-//eluceo/ical//2.0/EN
VERSION:2.0
CALSCALE:GREGORIAN
BEGIN:VEVENT
UID:05cd978fa3f95d45b98dba991ad4a90c
DTSTAMP:20260420T190240Z
SUMMARY:Party on the Porch with CSI at Art Cafe
DESCRIPTION:Jewish Federation & Foundation of Rockland County\nCommunity Ca
 lendar\nhttps://jewishrockland.org/calendar/party-on-the-porch-with-csi-at
 -art-cafe-1424653112\n\nWednesday\, March 25\, Party on the Porch with CSI
 -- 7 – 8:30 pm at Art Cafe  Join other 20s/30s/40s for some yummy Israel
 i food and hang out with old friends\, meet new friends! Art Café (65 S. 
 Broadway\, Nyack\, NY-next to the Nyack Library) For more information call
  Helaine at 845-358-3767 or csioffice@optonline.net
DTSTART;TZID=America/New_York:20150325T190000
DTEND;TZID=America/New_York:20150325T203000
END:VEVENT
END:VCALENDAR
