BEGIN:VCALENDAR
PRODID:-//eluceo/ical//2.0/EN
VERSION:2.0
CALSCALE:GREGORIAN
BEGIN:VEVENT
UID:2b2d79d3194839727d76aaf0176bbc5f
DTSTAMP:20260421T011517Z
SUMMARY:Passover in the Matzah Aisle- Fairway Market Nanuet
DESCRIPTION:Jewish Federation & Foundation of Rockland County\nCommunity Ca
 lendar\nhttps://jewishrockland.org/calendar/passover-in-the-matzah-aisle--
 fairway-market-nanuet-1427391213-139994\n\nIts a pre-Passover party in the
  Matzah aisle of local supermarkets!
DTSTART;TZID=America/New_York:20150331T093000
DTEND;TZID=America/New_York:20150331T190000
END:VEVENT
END:VCALENDAR
