BEGIN:VCALENDAR
PRODID:-//eluceo/ical//2.0/EN
VERSION:2.0
CALSCALE:GREGORIAN
BEGIN:VEVENT
UID:a0c72d752a7e589582094e6bb31f3406
DTSTAMP:20260419T143232Z
SUMMARY:Passover in the Matzah Aisle- Stop & Shop New City
DESCRIPTION:Jewish Federation & Foundation of Rockland County\nCommunity Ca
 lendar\nhttps://jewishrockland.org/calendar/passover-in-the-matzah-aisle--
 stop--shop-new-city-1427390958-139993\n\na free pre-Passover party in the 
 Matzah aisle of local supermarkets
DTSTART;TZID=America/New_York:20150330T093000
DTEND;TZID=America/New_York:20150330T190000
END:VEVENT
END:VCALENDAR
