BEGIN:VCALENDAR
PRODID:-//eluceo/ical//2.0/EN
VERSION:2.0
CALSCALE:GREGORIAN
BEGIN:VEVENT
UID:94ba97a361a5f833c50564fd18d30371
DTSTAMP:20260421T104858Z
SUMMARY:Passover in the Matzah Aisle
DESCRIPTION:Jewish Federation & Foundation of Rockland County\nCommunity Ca
 lendar\nhttps://jewishrockland.org/calendar/passover-in-the-matzah-aisle-2
 017\n\nStop by for a taste of Passover goodies\, crafts and information as
  we hang out at Stop & Shop in New City!
DTSTART;TZID=America/New_York:20170403T153000
DTEND;TZID=America/New_York:20170403T183000
END:VEVENT
END:VCALENDAR
